BEGIN:VCALENDAR
VERSION:2.0
PRODID:-//Date iCal//NONSGML kigkonsult.se iCalcreator 2.20.2//
METHOD:PUBLISH
X-WR-CALNAME;VALUE=TEXT:IAST
BEGIN:VTIMEZONE
TZID:Europe/Paris
BEGIN:STANDARD
DTSTART:20251026T030000
TZOFFSETFROM:+0200
TZOFFSETTO:+0100
RDATE:20261025T030000
TZNAME:CET
END:STANDARD
BEGIN:DAYLIGHT
DTSTART:20260329T020000
TZOFFSETFROM:+0100
TZOFFSETTO:+0200
TZNAME:CEST
END:DAYLIGHT
END:VTIMEZONE
BEGIN:VEVENT
UID:calendar.105357.field_date.0@www.iast.fr
DTSTAMP:20260425T142131Z
CREATED:20260424T132001Z
DESCRIPTION:Kristin Michelitch\, Fourth IAST - Oxford – Sciences Po Paris c
 onference in  Political Economy\, Paris\, May 21–22\, 2026.
DTSTART;TZID=Europe/Paris:20260521T030101
DTEND;TZID=Europe/Paris:20260522T030101
LAST-MODIFIED:20260425T002001Z
LOCATION:Paris\, May 21–22\, 2026
SUMMARY:Fourth IAST - Oxford – Sciences Po Paris conference in  Political E
 conomy
URL;TYPE=URI:https://www.iast.fr/conferences/2026-fourth-iast-oxford-scienc
 es-po-paris-conference-political-economy
END:VEVENT
END:VCALENDAR
