BEGIN:VCALENDAR
VERSION:2.0
PRODID:-//Date iCal//NONSGML kigkonsult.se iCalcreator 2.20.2//
METHOD:PUBLISH
X-WR-CALNAME;VALUE=TEXT:IAST
BEGIN:VTIMEZONE
TZID:Europe/Paris
BEGIN:STANDARD
DTSTART:20261025T030000
TZOFFSETFROM:+0200
TZOFFSETTO:+0100
TZNAME:CET
END:STANDARD
BEGIN:DAYLIGHT
DTSTART:20270328T020000
TZOFFSETFROM:+0100
TZOFFSETTO:+0200
TZNAME:CEST
END:DAYLIGHT
END:VTIMEZONE
BEGIN:VEVENT
UID:calendar.105333.field_date.0@www.iast.fr
DTSTAMP:20260424T140033Z
CREATED:20260423T142001Z
DESCRIPTION:Alexandre de Cornière\, Doh-Shin Jeon\, Chuqing Jin\, Andrew Rh
 odes\, and Paul Seabright\, 19th Digital Economics Conference\, Toulouse\,
  January 7–8\, 2027\, room Auditorium 3  - Auditorium 4.
DTSTART;TZID=Europe/Paris:20270107T030101
DTEND;TZID=Europe/Paris:20270108T030101
LAST-MODIFIED:20260424T002001Z
LOCATION:Toulouse\, January 7–8\, 2027\, room Auditorium 3  - Auditorium 4
SUMMARY:19th Digital Economics Conference
URL;TYPE=URI:https://www.iast.fr/conferences/2027-19th-digital-economics-co
 nference
END:VEVENT
END:VCALENDAR
